BEGIN:VCALENDAR
VERSION:2.0
PRODID:-//The Stockton Chorale - ECPv6.15.20//NONSGML v1.0//EN
CALSCALE:GREGORIAN
METHOD:PUBLISH
X-WR-CALNAME:The Stockton Chorale
X-ORIGINAL-URL:https://www.stocktonchorale.org
X-WR-CALDESC:Events for The Stockton Chorale
REFRESH-INTERVAL;VALUE=DURATION:PT1H
X-Robots-Tag:noindex
X-PUBLISHED-TTL:PT1H
BEGIN:VTIMEZONE
TZID:America/Los_Angeles
BEGIN:DAYLIGHT
TZOFFSETFROM:-0800
TZOFFSETTO:-0700
TZNAME:PDT
DTSTART:20250309T100000
END:DAYLIGHT
BEGIN:STANDARD
TZOFFSETFROM:-0700
TZOFFSETTO:-0800
TZNAME:PST
DTSTART:20251102T090000
END:STANDARD
BEGIN:DAYLIGHT
TZOFFSETFROM:-0800
TZOFFSETTO:-0700
TZNAME:PDT
DTSTART:20260308T100000
END:DAYLIGHT
BEGIN:STANDARD
TZOFFSETFROM:-0700
TZOFFSETTO:-0800
TZNAME:PST
DTSTART:20261101T090000
END:STANDARD
BEGIN:DAYLIGHT
TZOFFSETFROM:-0800
TZOFFSETTO:-0700
TZNAME:PDT
DTSTART:20270314T100000
END:DAYLIGHT
BEGIN:STANDARD
TZOFFSETFROM:-0700
TZOFFSETTO:-0800
TZNAME:PST
DTSTART:20271107T090000
END:STANDARD
END:VTIMEZONE
BEGIN:VEVENT
DTSTART;TZID=America/Los_Angeles:20260315T153000
DTEND;TZID=America/Los_Angeles:20260315T173000
DTSTAMP:20260423T055409
CREATED:20250526T220154Z
LAST-MODIFIED:20260312T193801Z
UID:10000023-1773588600-1773595800@www.stocktonchorale.org
SUMMARY:Choral Masterworks Concert
DESCRIPTION:Fanny Hensel’s Lobgesang and Maurice Duruflé’s Requiem are the selections for this concert\, which\, when taken together\, form a powerful arc—from praise to peace\, from the exultation of life to the quiet mystery of death. Hensel wrote her beautiful\, pastoral piece as a response to the birth of her first child\, and the piece celebrates appropriately. In contrast\, Duruflé’s Requiem offers a tender farewell to his father with a work of serenity. Based on Gregorian chant and full of lush harmonies\, the work gently ushers the spirit toward eternal peace. Together\, these works trace a sacred journey from the joyful song of life to the quiet stillness of death. \nPurchase Tickets
URL:https://www.stocktonchorale.org/event/choral-master-works-concert/
LOCATION:Atherton Auditorium @ Delta College\, Stockton\, 5151 Pacific Ave\, Stockton\, CA\, 95207\, United States
ATTACH;FMTTYPE=image/webp:https://www.stocktonchorale.org/wp-content/uploads/2025/06/March_ChoralMasterworks.webp
ORGANIZER;CN="Stockton Chorale":MAILTO:stocktonchoraleoffice@gmail.com
END:VEVENT
END:VCALENDAR