BEGIN:VCALENDAR
VERSION:2.0
PRODID:-//The Stockton Chorale - ECPv6.15.20//NONSGML v1.0//EN
CALSCALE:GREGORIAN
METHOD:PUBLISH
X-ORIGINAL-URL:https://www.stocktonchorale.org
X-WR-CALDESC:Events for The Stockton Chorale
REFRESH-INTERVAL;VALUE=DURATION:PT1H
X-Robots-Tag:noindex
X-PUBLISHED-TTL:PT1H
BEGIN:VTIMEZONE
TZID:America/Los_Angeles
BEGIN:DAYLIGHT
TZOFFSETFROM:-0800
TZOFFSETTO:-0700
TZNAME:PDT
DTSTART:20250309T100000
END:DAYLIGHT
BEGIN:STANDARD
TZOFFSETFROM:-0700
TZOFFSETTO:-0800
TZNAME:PST
DTSTART:20251102T090000
END:STANDARD
BEGIN:DAYLIGHT
TZOFFSETFROM:-0800
TZOFFSETTO:-0700
TZNAME:PDT
DTSTART:20260308T100000
END:DAYLIGHT
BEGIN:STANDARD
TZOFFSETFROM:-0700
TZOFFSETTO:-0800
TZNAME:PST
DTSTART:20261101T090000
END:STANDARD
BEGIN:DAYLIGHT
TZOFFSETFROM:-0800
TZOFFSETTO:-0700
TZNAME:PDT
DTSTART:20270314T100000
END:DAYLIGHT
BEGIN:STANDARD
TZOFFSETFROM:-0700
TZOFFSETTO:-0800
TZNAME:PST
DTSTART:20271107T090000
END:STANDARD
END:VTIMEZONE
BEGIN:VEVENT
DTSTART;TZID=America/Los_Angeles:20260402T180000
DTEND;TZID=America/Los_Angeles:20260402T200000
DTSTAMP:20260421T184643
CREATED:20260319T193343Z
LAST-MODIFIED:20260319T193343Z
UID:10000028-1775152800-1775160000@www.stocktonchorale.org
SUMMARY:Stockton Ports Opening Night
DESCRIPTION:Come hear the Stockton Youth Chorale fill Banner Island Stadium with sounds of the National Anthem to celebrate Opening Night with the Stockton Ports baseball team. \nBuy Tickets : https://www.zeffy.com/en-US/ticketing/stockton-ports-opening-night
URL:https://www.stocktonchorale.org/event/stockton-ports-opening-night/
LOCATION:Stockton Ports Stadium\, 404 W Fremont St\, Stockton\, CA\, 95203\, United States
ATTACH;FMTTYPE=image/webp:https://www.stocktonchorale.org/wp-content/uploads/2026/03/Stockton-Ports-Opening-Night-Tickets.webp
ORGANIZER;CN="Stockton Chorale":MAILTO:stocktonchoraleoffice@gmail.com
END:VEVENT
BEGIN:VEVENT
DTSTART;TZID=America/Los_Angeles:20260423T190000
DTEND;TZID=America/Los_Angeles:20260423T210000
DTSTAMP:20260421T184643
CREATED:20260416T211208Z
LAST-MODIFIED:20260416T211208Z
UID:10000029-1776970800-1776978000@www.stocktonchorale.org
SUMMARY:Just For Fun Concert
DESCRIPTION:Please join us for our Just For Fun concert featuring the singers from the Stockton Youth Chorale and Valley Youth A Capella.  The show will feature individual and group choral music selections for your enjoyment. \nThis concert is donation only and admission is not required\, but we do have a link to Zeffy for your convenience if you’d like to make a donation.
URL:https://www.stocktonchorale.org/event/just-for-fun-concert/
LOCATION:Central United Methodist Church\, 3700 Pacific Avenue\, Stockton\, CA\, 95204\, United States
ATTACH;FMTTYPE=image/webp:https://www.stocktonchorale.org/wp-content/uploads/2025/04/Just-for-Fun.webp
ORGANIZER;CN="Stockton Chorale":MAILTO:stocktonchoraleoffice@gmail.com
END:VEVENT
BEGIN:VEVENT
DTSTART;TZID=America/Los_Angeles:20260516T190000
DTEND;TZID=America/Los_Angeles:20260516T210000
DTSTAMP:20260421T184643
CREATED:20250526T221059Z
LAST-MODIFIED:20250928T180935Z
UID:10000024-1778958000-1778965200@www.stocktonchorale.org
SUMMARY:Film Classics
DESCRIPTION:Sing along with us to favorite songs from favorite films. \nOur final concert of our 74th season celebrates music from various films of the last century\, spanning the eras of Irving Berlin’s “White Christmas” to music from “Frozen” and “Barbie\,” this program has something for movie lovers of all ages and tastes. We bring to the stage all five groups in the Chorale Family: Stockton Chorale\, Master Choral\, Stockton Singers\, Stockton Youth Chorale\, and Valley Youth A Cappella. \nPurchase Tickets
URL:https://www.stocktonchorale.org/event/pops-concert-film-classics/
LOCATION:Vineyard Chapel at Cherokee Memorial Park\, 14165 N Beckman Rd\, Lodi\, 95240\, United States
ATTACH;FMTTYPE=image/webp:https://www.stocktonchorale.org/wp-content/uploads/2025/06/May_FilmClassics.webp
ORGANIZER;CN="Stockton Chorale":MAILTO:stocktonchoraleoffice@gmail.com
END:VEVENT
BEGIN:VEVENT
DTSTART;TZID=America/Los_Angeles:20260517T153000
DTEND;TZID=America/Los_Angeles:20260517T173000
DTSTAMP:20260421T184643
CREATED:20250526T221316Z
LAST-MODIFIED:20250928T180808Z
UID:10000025-1779031800-1779039000@www.stocktonchorale.org
SUMMARY:Film Classics
DESCRIPTION:Sing along with us to famous songs from favorite films. \nOur final concert of our 74th season celebrates music from various films of the last century\, spanning the eras of Irving Berlin’s “White Christmas” to music from “Frozen” and “Barbie\,” this program has something for movie lovers of all ages and tastes. We bring to the stage all five groups in the Chorale Family: Stockton Chorale\, Master Choral\, Stockton Singers\, Stockton Youth Chorale\, and Valley Youth A Cappella. \nPurchase Tickets
URL:https://www.stocktonchorale.org/event/pops-concert-film-classics-2/
LOCATION:Atherton Auditorium @ Delta College\, Stockton\, 5151 Pacific Ave\, Stockton\, CA\, 95207\, United States
ATTACH;FMTTYPE=image/webp:https://www.stocktonchorale.org/wp-content/uploads/2025/06/May_FilmClassics.webp
ORGANIZER;CN="Stockton Chorale":MAILTO:stocktonchoraleoffice@gmail.com
END:VEVENT
END:VCALENDAR